Workbook

Sheet Eingabetabelle
B1: Projekt: | Q1: Anmerkung: Das Berechnungsprogramm wird von der SW-Umwelttechnik kostenlos zur Verfügung gestellt. Es wurde unter Beachtung der aktuellen gültigen Normen und von Erfahrungswerten mit größter Sorgfalt erstellt. Dennoch übernimmt die SW-Umwelttechnik keine Haftung dafür, dass das Berechnungsprogramm fehlerfrei ist oder es den Anforderungen des Benutzers genügt.
B4: 1) | C4: Definition der Situation
B6: 1.1) | C6: Oberflächenentwässerung von mineralölverschmutztem Regenwasser
C8: Projizierte Freifläche A1 | I8: m² | K8: =IF(H8>1,100,0) -> 0 | L8: =IF(H8*H19/10000<10,K8,200) -> 0 | Q8: Projizierte Freifläche A1 Hier wird die Summe aller projizierten Freiflächen in [m²] eingegeben, die über den Mineralölabscheider geleitet werden. Die zu erwartende Leichtflüssigkeitsmenge ist als gering zu bezeichnen.
D9: Regenauffangflächen (Strassen, Tankstellen usw.), auf denen nur geringe Mengen an Schmutz durch Straßenverkehr anfällt
C12: Projizierte Freifläche A2 | I12: m² | L12: =IF(H12>1,200,0) -> 0 | Q12: Projizierte Freifläche A2 Hier wird die Summe aller projizierten Freiflächen in [m²] eingegeben, die über den Mineralölabscheider geleitet werden. Die zu erwartende Leichtflüssigkeitsmenge ist als gering zu bezeichnen.
D13: Regenauffangflächen (Fahrzeugabstellflächen)
Q15: Überdachte, seitlich offene Freifläche A3 Hier wird die Summe der Schlagregenflächen in [m²] von überdachten Flächen eingegeben. Sie errechnet sich: A3 = Σ längste Schlagregenseite x Raumhöhe
C16: Überdachte, seitlich offene Flächen A3 | I16: m² | L16: =IF(H16>1,100,0) -> 0
D17: Fläche des Schlagregens (Parkhaus)
C19: Regenspende i | I19: l/s.ha | L19: =IF(H19>1,100,0) -> 0 | Q19: Regenspende i Es ist die örtliche Regenspende eines mind. jährlichen Regenereignisses in [l/s.ha] eingegeben. 150l/s.ha sollten jedoch nicht unterschritten werden.
D20: Die Regenspende i ist von den örtlichen Regendaten abhängig und ist entsprechend der behördlichen Auflagen anzusetzen.
C22: Dichte der zu erwartenden Leichtflüssigkeit | I22: kg/dm³ | Q22: Dichte der zu erwartenden Leichtflüssigkeit Alle auftretenden Leichtflüssigkeiten sind festzulegen. Mittels der Dichtetabelle wird die Dichte jeder Leichtflüssigkeit bestimmt. Der höchste Dichtewert ist in der Eingabetabelle einzusetzen.
D23: (siehe Dichte-Tabelle) | F23: Dichte γ = | G23: bis 0,85 kg/dm³
F24: Dichte γ = | G24: bis 0,88 kg/dm³
F25: Dichte γ = | G25: bis 0,90 kg/dm³
F26: Dichte γ = | G26: bis 0,95 kg/dm³
Q28: Anteil an Biodiesel (Fettsäuremethylester/FAME) Regelung durch Europäischen Biokraftstoffrichtlinie 2003/30/EG. Biodiesel (FAME) wird zur Zeit in Österreich entweder als B7 (7 Vol.% Biodiesel-Anteil) dem Dieselkraftstoff beigemischt oder als Reinkraftstoff B100 (100 Vol.% Biodiesel bzw. FAME) in Verkehr gebracht
C29: Biodiesel- bzw. FAME-Anteil im Dieselkraftstoff cFAME | I29: Vol.% | L29: =IF(H29>0.9,400,0) -> 0 | N29: 2500 | O29: =IF(H29>0.9,2500,N29) -> 2500
B31: 1.2) | C31: Objektsentwässerung von mineralölverschmutztem Betriebsabwasser
D32: gewerbliches Abwasser aus industriellen Prozessen, Fahrzeugwaschanlagen, Werkstätten, HD-Reiniger
C34: Dichte der zu erwartenden Leichtflüssigkeit | I34: kg/dm³
D35: (siehe Dichte-Tabelle) | F35: Dichte γ = | G35: bis 0,85 kg/dm³ | Q35: Anfallstelle - Auslaufventile Hier werden alle Wasseranschlüsse, die gleichzeitig verwendet werden können, eingetragen. Wird ein Anschluss ausschließlich für z.b.ein HD-Gerät oder Autowaschanlage verwendet, so ist dieser nicht den Auslaufventilen zuzuordnen, sondern ist eigens zu betrachten. Liegt der Versorgungsdruck über 4 bar, so ist dieser ebenso einzutragen.
F36: Dichte γ = | G36: bis 0,90 kg/dm³
F37: Dichte γ = | G37: bis 0,95 kg/dm³
C40: Anfallstellen | L40: =IF(H68>0.01,100,0) -> 0 | Q40: Anfallstelle - Hochdruckreinigungsgeräte Die Anzahl der HD-Geräte, die gleichzeitig verwendet werden können, ist hier einzutragen.
D41: Auslaufventile | F41: DN 15 / 1/2" | I41: Stk. | K41: =IF(H41>0.9,200,0) -> 0 | L41: =IF(H56>0.9,300,K41) -> 0 | N41: 600 | O41: =IF(H41>0.9,600,0) -> 0
F43: DN 20 / 3/4" | I43: Stk. | K43: =IF(H43>0.9,200,0) -> 0 | L43: =IF(H56>0.9,300,K43) -> 0 | N43: 600 | O43: =IF(H43>0.9,600,0) -> 0
F45: DN 25 / 1" | I45: Stk. | K45: =IF(H45>0.9,200,0) -> 0 | L45: =IF(H56>0.9,300,K45) -> 0 | N45: 600 | O45: =IF(H45>0.9,600,0) -> 0 | Q45: Waschplatz für Lkw, Bau-u. landwirtschaftl. Maschinen Werden auf dem Waschplatz Lkw's, Bau-u. landwirtschaftliche Maschinen gereinigt, so ist in das Feld eine 1 einzutragen.
F47: Versorgungsdruck | I47: bar
Q49: Anfallstelle - Autowaschanlage Die Anzahl der Autowaschanlagen, die gleichzeitig verwendet werden können, ist hier einzutragen.
D50: Autowaschanlagen | I50: Stk. | L50: =IF(H50>0.9,300,0) -> 0 | N50: 5000 | O50: =IF(H50>0.9,5000,0) -> 0
Q52: gewählter Erschwernisfaktor fx Beachten Sie bei der NS-Berechnung des Mineralölabscheiders laut EN858-2, dass dieser bei der EN-Prüfung nur mit Heizöl Extraleicht geprüft wird und in der EN858-2 der Erschwernisfaktor mit 2 festgelegt wurde. Bei offensichtlichem starken Schmutzanfall sollte der Erschwernisfaktor jedoch laut Erschwernisfaktortabelle (empfohlenen Erschwernisfaktor) angesetzt werden, um die geforderten Grenzwerte hinsichtlich des Restölgehaltes im Abwasser einhalten zu können. Sie haben die Möglichkeit einen Schmutzfaktor fx >2 in der Eingabetabelle festzulegen. Wird kein Schmutzfaktor eingegeben, so wird mit dem Schmutzfaktor laut EN858-2 gerechnet.
D53: Hochdruckreinigungsgeräte | I53: Stk. | K53: =IF(H53>0.9,200,0) -> 0 | L53: =IF(H56>0.9,300,K53) -> 0 | N53: 600 | O53: =IF(H53>0.9,600,0) -> 0
D54: Waschplatz für Lkw, Bau-u. landwirtschaftl. Maschinen | I54: ja=1
L55: =H61 -> 0
D56: Waschplatz für Lkw, Bau-u. landwirtschaftl. Maschinen | I56: ja=1
C58: gewählter Erschwernisfaktor fx (siehe Erschwernisfaktortabelle) | L58: =MAX(L8:L55) -> 0 | O58: =MAX(O7:O54) -> 2500
C61: gewählter Schlammfangvolumen fst | I61: l / NS | Q61: gewähltes Schlammfangvolumen fst Hier kann das Schlammfangvolumen frei gewählt werden. Bei starken Schlammanfall sollte das Volumen von 400 bis 600 l/NS gewählt werden. Das mindest erforderliche Volumen laut EN 858-2 bleibt jedoch automatisch als Rechnungenwert erhalten. Bei Einsatz von Biodiesel/FAME sollte das Volumen mind. 400l/NS betragen, jedoch mindesten 2,5m³.
B64: 1.3) | C64: Schutz von auslaufenden Flüssigkeiten im Objektsbereich
D67: die maximal zu erwartende auslaufende Leichtflüssigkeits-menge ist anzugeben (zb. bei Lagerung von Ölfässern) | Q67: Schutz von auslaufenden Flüssigkeiten im Objektsbereich Hier soll der max. Abflusswert in [l/s] eingetragen werden, der durch unvorhergesehene auslaufende Flüssigkeiten entstehen kann z.b. Leichtflüssigkeitsauslauf bei Lagerung von undichten Ölfässern
I68: l/s

Sheet Erschwernisfaktortabelle
B1: Anwendungsfall | C1: Bemerkung | D1: Erschwernisfaktor fx | F1: Schlammfangvolumen
C2: Allgemeine Anforderungen: - für Mineralölabscheider der Klasse 1 - Reinigungsmittel entsprechend ÖNORMen B 5104 B 5105 B 5106 | D2: mind. lt. EN 858-2 | E2: Empfohlenc) | F2: X * NS / fd mind. lt. EN 858-2 | G2: X * NS / fd empfohlen
A4: 1 | B4: Regenwasser von Tankstellen (Betankungs- und Manipulationsbereich | C4: kein Anfall von Detergentien | D4: - a) | E4: - | F4: 200 (100 bis NS 10) | G4: 200
A6: 1.1 | B6: Gemische aus FAME und Dieselkraftstoffen | D6: - a) | E6: _ | F6: - a) | G6: 400 (jedoch mind. 2,5m³)
A8: 2 | B8: Regenwasser von Öllagern und Ölumschlagplätzen | D8: - a) | E8: - | F8: 200 (100 bis NS 10) | G8: 200
A10: 3 | B10: Regenwasser von Parkplätzen | D10: - a) | E10: - | F10: 200 (100 bis NS 10) | G10: 200
A12: 4 | B12: Regenwasser von Straßen usw. in besonderen Fällen | D12: - a) | E12: - | F12: 200 (100 bis NS 10) | G12: 200
A14: 5 | B14: Reinigung (Auslaufen und Leckage) von Fußböden von Werkstätten, Prüfinstituten, Fabriken usw. | C14: Arbeitsräume mit Bodenablauf
A15: 5.1 | B15: Bei Gebrauch von Reinigungsmitteln | D15: 2 | E15: 4 | F15: 200 | G15: 300
A16: 5.2 | B16: Ohne Gebrauch von Reinigungsmitteln | D16: 2 | E16: 2 | F16: 200 | G16: 200
A18: 6 | B18: Autowäsche
A19: 6.1 | B19: Von Hand | C19: Nur Reinigung von Fahrzeugflächen, | D19: 2 | E19: 2 | F19: 200 | G19: 300
A20: 6.2.1 | B20: In Waschanlagen "Portalwaschanlagen" | C20: Nur Reinigung von Fahrzeugoberflächen, einschließlich Unterbodenwäsche (Niederdruck), | D20: 2 | E20: 4 | F20: 300 (jedoch mind. 5 m³) | G20: 600
A21: 6.2.2 | B21: In Waschanlagen "Waschstraßen" | C21: Nur Reinigung von Fahrzeugoberflächen, einschließlich Unterbodenwäsche (Niederdruck), | D21: 2 | E21: 6b) | F21: 300 (jedoch mind. 5 m³) | G21: 600
A22: 6.3 | B22: Mit Hochdruckgeräten
A23: 6.3.1 | B23: Reinigung von nicht ölverschmutzten Fahrzeugoberflächen | D23: 2 | E23: 4 | F23: 200 bzw. 300 | G23: 400
A24: 6.3.2 | B24: Reinigung von ölverschmutzten Fahrzeugoberflächen | D24: 2 | E24: 4 | F24: 200 bzw. 300 | G24: 400
A25: 6.4 | B25: Unterbodenwäsche | D25: 2 | E25: 6 | F25: 200 bzw. 300 | G25: 400
A26: 6.5 | B26: Motorwäsche | D26: 2 | E26: 8 | F26: 200 bzw. 300 | G26: 400
A27: 6.6 | B27: Mit Hochdruckreinigungsgerät in Selbstbedienung | C27: SB - Freiwaschplätze | D27: 2 | E27: 6 | F27: 200 bzw. 300 | G27: 400
A28: 6.7 | B28: Waschplatz f. Baumaschinen und landwirtschaftliche Maschinen | D28: 2 | E28: 6 | F28: 300 | G28: 600
A30: 7 | B30: Reinigen (außer Autowäsche) | C30: Reinigen von Motoren und Teilen
A31: 7.1 | B31: Mit Hochdruckgerät | D31: 2 | E31: 8 | F31: 200 | G31: 400
A32: 7.2 | B32: Mit Rotationsreiniger | D32: 2 | E32: 10 | F32: 200 | G32: 400
A34: 8 | B34: Entfernen größerer Mengen von Paraffin, Wachs oder ähnlichem von neuen Fahrzeugen, einschließlich Rostschutzbehandlung | C34: In den meisten Fällen ist eine Emulsionstrennanlage oder weitgehende Abwasserbehandlung erforderlich | D34: _ | E34: _ | F34: _ | G34: _
A36: 9 | B36: Schrottplätze (Havarieplätze) | D36: 2 | E36: 4 | F36: 200 | G36: 400
A38: 10 | B38: Beschickung des Mineralölabscheiders mittels Verdrängerpumpe | C38: nur in Ausnahmefällen | D38: - a) | E38: gewählter fx * 2 | G38: 400
B39: a) in der Bemessung ist laut EN 858 kein Erschwernisfaktor vorgesehen | C39: c) die empfohlenen Erschwernisfaktoren sollten unter der Berücksichtigung von Emulsionsbildung bei angeführten Prozessen zur erforderlichen Reinigungsleistung (Klasse I ) gewählt werden
B40: b) hier wird der erhöhte Wasseranfall gegenüber einer Portalwaschanlage berücksichtigt

Sheet Dichtetabelle
A1: Dichtetabelle für Leichtflüssigkeiten (Auszug aus EN 858-2) häufige Leichtflüssigkeiten sind markiert
A2: Leichtflüssigkeit | B2: Dichte bei 15 °C bis 20 °C (kg/dm³) | C2: Abscheidbarkeit | D2: Bemerkungen
D3: Maximale Löslichkeit in Wasser unter bestimmten Bedingungen | E3: Andere
A4: Essigsäureamylacetat | B4: 0.876 | C4: Ja | D4: 2,5 g/l | E4: a
A5: Essigsäureethylester | B5: 0.9 | C5: Begrenzt | D5: 86,0 g/l | E5: Nach gewisser Zeit Zersetzung in Essigsäure und Wasser
A6: Essigsäuremethylester | B6: 0,93 bis 0,934 | C6: Begrenzt | D6: 292 g/l | E6: a Insbesondere in geschossenen Behältern
A7: Essigsäure-n-butylester | B7: 0.876 | C7: Begrenzt | D7: 7 g/l | E7: Nach gewisser Zeit Zersetzung in Essigsäure und Ethylalkohol
A8: Aceton | B8: 0.791 | C8: Nein | D8: Unbegrenzt | E8: -
A9: Bernsteinöl | B9: 0.8 | C9: Ja | D9: - | E9: -
A10: Amylalkohol | B10: 0.815 | C10: Begrenzt | D10: 27 g/l | E10: Schädliche Gemische mit Wasser
A11: Benzol | B11: 0.87 | C11: Ja | D11: 1,8 g/l | E11: a
A12: Butylalkohol | B12: 0.81 | C12: Begrenzt | D12: 90 g/l | E12: a
A13: Kohlenteeröl | B13: 0,86 bis 0,89 | C13: Ja | D13: 0,2 g/l | E13: -
A14: Kresolöl | B14: 1.03 | C14: Nein | D14: 20 g/l | E14: -
A15: Cyclohexanol | B15: 0.968 | C15: Nein | D15: 56,7 g/l | E15: -
A16: Cyclohexan | B16: 0,778 bis 0,779 | C16: Ja | D16: Fast unlöslich | E16: a
A17: Dekaline | B17: 0,870 bis 0,896 | C17: Ja | D17: Fast unlöslich | E17: -
A18: Dieselkraftstoff, Dieselöl | B18: 0.85 | C18: Ja | D18: Fast unlöslich | E18: -
A19: Dietylether | B19: 0.714 | C19: Begrenzt | D19: 75 g/l | E19: Ausgasung aus Ether-Wasser-Gemischen
A20: Dioxan | B20: 1.036 | C20: Nein | D20: Unbegrenzt | E20: a Bei hohen Konzentrationen
A21: Ethylalkohol | B21: 0.789 | C21: Nein | D21: Unbegrenzt | E21: a Bei hohen Konzentrationen
A22: Ethylbutyrat (n-Buttersäure-ethylester) | B22: 0.879 | C22: Begrenzt | D22: 6,2 g/l | E22: a
A23: Ethylmethylketon | B23: 0.806 | C23: Nein | D23: Gut löslich | E23: -
A24: Ameisensäureethylester | B24: 0,919 bis 0,921 | C24: Begrenzt | D24: 110 g/l | E24: a
A25: Ameisensäuremethylester | B25: 0,969 bis 0,971 | C25: Begrenzt | D25: 300 g/l | E25: a
A26: Heizöl, extraleicht | B26: 0.86 | C26: Ja | D26: Fast unlöslich | E26: -
A27: Heizöl, leicht | B27: 0.87 | C27: Ja | D27: - | E27: -
A28: Heizöl, mittel | B28: 0.92 | C28: Ja | D28: - | E28: -
A29: Heizöl, schwer | B29: 0,94 bis 0,99 | C29: Begrenzt bei Dichten bis etwa 0,96 g/cm³ | D29: Fast unlöslich | E29: -
A30: Schwerbenzin | B30: 0,70 bis 0,75 | C30: Ja | D30: Fast unlöslich | E30: -
A31: Heptan | B31: 0.684 | C31: Ja | D31: Fast unlöslich | E31: a
A32: Hexan | B32: 0.659 | C32: Ja | D32: Fast unlöslich | E32: a
A33: iso-Amylalkohol | B33: 0.813 | C33: Begrenzt | D33: 30 g/l | E33: -
A34: iso-Butylalkohol | B34: 0.806 | C34: Begrenzt | D34: 95 g/l | E34: a An warmen Tagen
A35: iso-Propylalkohol | B35: 0.785 | C35: Nein | D35: Unbegrenzt | E35: a
A36: Kerosin (Flugbenzin) | B36: 0.8 | C36: Ja | D36: - | E36: a Wenn Sonnenlicht ausgesetzt
A37: Leichtöl = Heizöl, leicht
A38: Leichtbenzin = Benzin, Gemisch
A39: Holzteeröl = Kohlenteeröl
A40: Schmieröl | B40: 0,89 bis 0,90 | C40: Ja | D40: Fast unlöslich | E40: -
A41: Methylalkohol | B41: 0,790 bis 0,791 | C41: Nein | D41: Unbegrenzt | E41: a
A42: Methylcyclohexanol | B42: 0,91 bis 0,94 | C42: Ja | D42: - | E42: -
A43: Terpentin | B43: 0,86 bis 0,87 | C43: Ja | D43: - | E43: a Bei hohen Temperaturen
A44: Parafinöl | B44: 0,88 bis 0,94 | C44: Ja | D44: Fast unlöslich | E44: -
A45: Pentan | B45: 0,625 bis 0,626 | C45: Ja | D45: 0,36 g/l | E45: a
A46: Benzin, Gemisch | B46: 0,77 bis 0,79 | C46: Ja | D46: - | E46: a
A47: Markenbenzin | B47: 0,68 bis 0,75 | C47: Ja | D47: - | E47: a
A48: Benzin, Rennautos | B48: 0.78 | C48: Ja. Bei Beurteilung Mischungsrezeptur hinzuziehen | D48: - | E48: a
A49: Petroleum | B49: 0.8 | C49: Ja | D49: Fast unlöslich | E49: -
A50: Kiefernöl = Terpentinöl
A51: Propionsäureethylester | B51: 0,889 bis 0,891 | C51: Ja | D51: 22 g/l | E51: a
A52: Propylalkohol | B52: 0.804 | C52: Nein | D52: Unbegrenzt | E52: -
A53: Propylbutyrat | B53: 0.88 | C53: Ja | D53: 0,3 g/l | E53: -
A54: Teraline (Tetrahydronaphthalin) | B54: 0,967 bis 0,969 | C54: Begrenzt | D54: - | E54: -
A55: Testbenzin | B55: 0,764 bis 0,794 | C55: Ja | D55: Fast unlöslich | E55: -
A56: Toluol | B56: 0,866 bis 0,867 | C56: Ja | D56: Fast unlöslich | E56: a
A57: Traktorenöl = Dieselkraftstoff und Petroleum | D57: - | E57: -
A58: Transformatoröl (Isolieröl) | B58: 0.82 | D58: -
A59: - PCB-frei | C59: Ja
A60: - PCB-haltig | C60: Nein
A61: PCB = Polychlorierte Biphenyle
A62: Xylol | B62: 0,862 bis 0,875 | C62: Ja | D62: 0,2 g/l
A63: Mischung aus Biodiesel/FAME - FAME-Anteil cFAME=5% | B63: 0,83* | E63: Dieselkraftstoffanteil am Gemisch 95%
A64: Mischung aus Biodiesel/FAME - FAME-Anteil cFAME=10% | B64: 0,835* | E64: Dieselkraftstoffanteil am Gemisch 90%
A65: Mischung aus Biodiesel/FAME - FAME-Anteil cFAME=40% | B65: 0,85* | E65: Dieselkraftstoffanteil am Gemisch 60%
A66: Mischung aus Biodiesel/FAME - FAME-Anteil cFAME=100% | B66: 0,883* | E66: Dieselkraftstoffanteil am Gemisch 0% - Markenname B100
A67: a Mögliche Bildung explosiver Luft-Gas-Gemische über der Wasseroberfläche
A68: *entsprechend DIN 1999-101-Tabelle 1
A69: ANMERKUNG: Einige dieser Flüssigkeiten können die Werkstoffe der Innenwandungen von Schlammfang, Abscheider und Einbauteile stark angreifen. Es sollte deshalb darauf geachtet werden, Werkstoffe und/oder eine Oberflächenbehandlung vorzusehen, die dem Angriff solcher Leichtflüssigkeiten widerstehen.

Sheet Bemessung
B1: Projekt: | E1: =IF(Eingabetabelle!D1="","",Eingabetabelle!D1)
B3: 2) | C3: Bemessung einer Mineralölabscheideanlage nach EN 858-2
B5: 2.1) | C5: Bestimmung der Nenngröße NS
C7: NS | D7: = | E7: ( | F7: Qr | G7: + | H7: fx | I7: . | J7: Qs | K7: ) | L7: . | M7: fd | N7: . | O7: ff
D9: NS | E9: ..... | F9: Nenngröße des Abscheiders
D10: Qr | E10: ..... | F10: maximale Regenabfluss in l/s
D11: fx | E11: ..... | F11: Erschwernisfaktor in Abhängigkeit von der Art des Abflusses
D12: Qs | E12: ..... | F12: gesamter Schmutzwasserabfluss in l/s
D13: fd | E13: ..... | F13: Dichtefaktor für die maßgebende Flüssigkeit
D14: ff | E14: ..... | F14: Fame-Faktor
C16: Qr | D16: = | E16: ( | F16: ψ | G16: . | H16: i | I16: . | J16: A | K16: )
D18: ψ | E18: ..... | F18: Abflussbeiwert | J18: gewählt für Hartbelag = | N18: 1
D19: i | E19: ..... | F19: Regenspende in l/s*ha
D20: A | E20: ..... | F20: Niederschlagsfläche in ha
C22: Qr | D22: = | E22: ( | F22: =N18 -> 1 | G22: . | H22: =Eingabetabelle!H19 -> 0 | I22: . | J22: =(Eingabetabelle!H8+Eingabetabelle!H12+Eingabetabelle!H16)/10000 -> 0 | K22: ) | L22: = | M22: =F22*H22*J22 -> 0 | N22: l/s
D24: fx | E24: = | F24: =IF(Eingabetabelle!H68>0,1,0) -> 0 | G24: ..... | H24: Schutz von auslaufenden Flüssigkeiten im Objektsbereich
D26: fx | E26: = | F26: =IF(E62+G62+I62>0,2,0) -> 0 | G26: ..... | H26: gewerbliches Abwasser aus industriellen Prozessen, Fahrzeugwaschanlagen, Werkstätten, HD-Reiniger
D28: fx | E28: = | F28: =Eingabetabelle!H58 -> 0 | G28: ..... | H28: laut Eingabetabelle
C30: fx | D30: = | E30: =MAX(F24,F26,F28) -> 0 | F30: ..... | G30: gewählt
C32: Qs | D32: = | E32: Qs1(xbar) | G32: + | H32: Qs2 | I32: + | J32: Qs3 | K32: + | L32: Qs4
D34: Qs1(xbar) | F34: = | G34: Schmutzwasserabfluss von Auslaufventilen
D36: laut Tabelle 4 entsprechend EN 858-2 gilt:
D37: 1. Ventil | E37: 2. Ventil | F37: 3. Ventil | G37: 4. Ventil | H37: 5. Ventil | I37: 6. Ventil
AA38: =SUM(AA39:AA41) -> 0 | AB38: =SUM(AB39:AB41) -> 0 | AC38: =SUM(AC39:AC41) -> 0 | AD38: =SUM(AD39:AD41) -> 0 | AE38: =SUM(AE39:AE41) -> 0 | AF38: =SUM(AF39:AF41) -> 0
C39: DN 15 | D39: 0.5 | E39: 0.5 | F39: 0.35 | G39: 0.25 | H39: 0.1 | I39: 0.1 | K39: =R39-S39 -> 0 | Q39: =Eingabetabelle!H45+Eingabetabelle!H43+Eingabetabelle!H41 -> 0 | R39: =IF(Q39=1,D39,0)+IF(Q39=2,D39+E39,0)+IF(Q39=3,D39+E39+F39,0)+IF(Q39=4,D39+E39+F39+G39,0)+IF(Q39=5,D39+E39+F39+G39+H39,0)+IF(Q39=6,D39+E39+F39+G39+H39+I39,0)+IF(Q39>6.1,D39+E39+F39+G39+H39*(Q39-4),0) -> 0 | S39: =IF(Q41=1,D39,0)+IF(Q41=2,D39+E39,0)+IF(Q41=3,D39+E39+F39,0)+IF(Q41=4,D39+E39+F39+G39,0)+IF(Q41=5,D39+E39+F39+G39+H39,0)+IF(Q41=6,D39+E39+F39+G39+H39+I39,0)+IF(Q41>6.1,D39+E39+F39+G39+H39*(Q41-4),0) -> 0 | Y39: =Eingabetabelle!H41 -> 0 | Z39: =SUM(Y39:Y41) -> 0 | AA39: =IF(Z39>0.9,5,0) -> 0 | AB39: =IF(Z39>1.9,5,0) -> 0 | AC39: =IF(Z39>2.9,5,0) -> 0 | AD39: =IF(Z39>3.9,5,0) -> 0 | AE39: =IF(Z39>4.9,5,0) -> 0 | AF39: =IF(Z39>5.9,5,0) -> 0
C40: DN 20 | D40: 1 | E40: 1 | F40: 0.7 | G40: 0.5 | H40: 0.2 | I40: 0.2 | K40: =R40-S40 -> 0 | Q40: =Eingabetabelle!H45+Eingabetabelle!H43 -> 0 | R40: =IF(Q40=1,D40,0)+IF(Q40=2,D40+E40,0)+IF(Q40=3,D40+E40+F40,0)+IF(Q40=4,D40+E40+F40+G40,0)+IF(Q40=5,D40+E40+F40+G40+H40,0)+IF(Q40=6,D40+E40+F40+G40+H40+I40,0)+IF(Q40>6.1,D40+E40+F40+G40+H40*(Q40-4),0) -> 0 | S40: =IF(Eingabetabelle!H45=1,D40,0)+IF(Eingabetabelle!H45=2,D40+E40,0)+IF(Eingabetabelle!H45=3,D40+E40+F40,0)+IF(Eingabetabelle!H45=4,D40+E40+F40+G40,0)+IF(Eingabetabelle!H45=5,D40+E40+F40+G40+H40,0)+IF(Eingabetabelle!H45=6,D40+E40+F40+G40+H40+I40,0)+IF(Eingabetabelle!H45>6.1,D40+E40+F40+G40+H40*(Eingabetabelle!H45-4),0) -> 0 | Y40: =Eingabetabelle!H43 -> 0 | Z40: =Y40+Y41 -> 0 | AA40: =IF(Z40>0.9,5,0) -> 0 | AB40: =IF(Z40>1.9,5,0) -> 0 | AC40: =IF(Z40>2.9,5,0) -> 0 | AD40: =IF(Z40>3.9,5,0) -> 0 | AE40: =IF(Z40>4.9,5,0) -> 0 | AF40: =IF(Z40>5.9,5,0) -> 0
C41: DN 25 | D41: 1.7 | E41: 1.7 | F41: 1.2 | G41: 0.85 | H41: 0.3 | I41: 0.3 | K41: =IF(Eingabetabelle!H45=1,D41,0)+IF(Eingabetabelle!H45=2,D41+E41,0)+IF(Eingabetabelle!H45=3,D41+E41+F41,0)+IF(Eingabetabelle!H45=4,D41+E41+F41+G41,0)+IF(Eingabetabelle!H45=5,D41+E41+F41+G41+H41,0)+IF(Eingabetabelle!H45=6,D41+E41+F41+G41+H41+I41,0)+IF(Eingabetabelle!H45>6.1,D41+E41+F41+G41+H41*(Eingabetabelle!H45-4),0) -> 0 | Q41: =Eingabetabelle!H43+Eingabetabelle!H45 -> 0 | Y41: =Eingabetabelle!H45 -> 0 | AA41: =IF(Y41>0.9,5,0) -> 0 | AB41: =IF(Y41>1.9,5,0) -> 0 | AC41: =IF(Y41>2.9,5,0) -> 0 | AD41: =IF(Y41>3.9,5,0) -> 0 | AE41: =IF(Y41>4.9,5,0) -> 0 | AF41: =IF(Y41>5.9,5,0) -> 0
H42: Qs1(4bar) | J42: = | K42: =SUM(K39:K41) -> 0 | L42: bei 4 bar Versorgungsdruck | AA42: =SUM(AA40:AA41) -> 0 | AB42: =SUM(AB40:AB41) -> 0 | AC42: =SUM(AC40:AC41) -> 0 | AD42: =SUM(AD40:AD41) -> 0 | AE42: =SUM(AE40:AE41) -> 0 | AF42: =SUM(AF40:AF41) -> 0
C44: Qs1(xbar) | E44: = | F44: Qs1(4bar) | H44: / | I44: 4bar | J44: / | K44: x bar
C46: Qs1(xbar) | E46: = | F46: =K42 -> 0 | H46: / | I46: 4 | J46: / | K46: =IF(Eingabetabelle!H47>4,Eingabetabelle!H47,4) -> 4 | L46: = | M46: =F46/SQRT(I46/K46) -> 0 | N46: l/s
C48: Qs2 | D48: = | E48: 2 | F48: l/s | G48: . | H48: =Eingabetabelle!H50 -> 0 | I48: = | J48: =E48*H48 -> 0 | K48: l/s
D50: Qs2 | E50: ....... | F50: Schmutzwasserabfluss von Autowaschanlagen
C52: Qs31 | D52: = | E52: =IF(H48>0.9,"1","2") -> 2 | F52: l/s | G52: . | H52: =IF(Eingabetabelle!H53>0.9,1,0) -> 0 | I52: = | J52: =IF(Eingabetabelle!H53>0.9,E52*H52,0) -> 0 | K52: l/s | L52: ..... | M52: 1. HD-Gerät
C53: Qs32 | D53: = | E53: 1 | F53: l/s | G53: . | H53: =IF(Eingabetabelle!H53<1,0,Eingabetabelle!H53-1) -> 0 | I53: = | J53: =E53*H53 -> 0 | K53: l/s | L53: ..... | M53: 2.,3.,4., usw. HD-Gerät
C54: Qs3 | D54: = | J54: =SUM(J52:J53) -> 0 | K54: l/s
D56: Qs3 | E56: ....... | F56: Schmutzwasserabfluss von Hochdruckreinigungsgeräten
C58: Qs4 | D58: = | E58: =Eingabetabelle!H68 -> 0 | F58: l/s
D60: Qs4 | E60: ....... | F60: Schmutzwasserabfluss von auslaufenden Leichtflüssigkeiten
C62: Qs | D62: = | E62: =M46 -> 0 | F62: + | G62: =J48 -> 0 | H62: + | I62: =J54 -> 0 | J62: + | K62: =E58 -> 0 | L62: = | M62: =E62+G62+I62+K62 -> 0 | N62: l/s
B64: Projekt: | E64: =E1
C66: γ | D66: = | E66: =IF(Eingabetabelle!H22>Eingabetabelle!H34,Eingabetabelle!H22,Eingabetabelle!H34) -> 0 | F66: kg/dm³ | H66: ....... | I66: gewählte Dichte
C68: Dichtefaktor laut Tabelle 3 entsprechend EN 858-2
R69: ≥
K70: S-II-I-P | M70: S-II-P | O70: S-I-P*
C71: γ | D71: = | F71: bis | G71: 0.85 | I71: fd | J71: = | K71: 1 | M71: 1 | O71: 1
C72: γ | D72: = | E72: 0.85 | F72: bis | G72: 0.9 | I72: fd | J72: = | K72: 1 | M72: 1.5 | O72: 2
C73: γ | D73: = | E73: 0.9 | F73: bis | G73: 0.95 | I73: fd | J73: = | K73: 1 | M73: 2 | O73: 3 | S73: =IF(E66>0.9,-1,0) -> 0
S74: =IF(E66>0.8501,1,0) -> 0
C75: * | D75: Klasse I Abscheider mit ausschließlicher Schwerkraftabscheidung | S75: =SUM(S73:S74) -> 0
C76: für die weitere Berechnung werden die Dichtefaktoren aus obigen markierten Feldern herangezogen
C78: ff | D78: = | E78: =IF(Eingabetabelle!H29>10,N88,K88) -> 1 | H78: ....... | I78: gewählter FAME-Faktor lt. Tabelle 2
C80: Dichtefaktor laut Tabelle 2 entsprechend DIN 1999 Teil 101
C81: Tabelle 2--Fame-Faktoren ff; cFAME entspricht dem Biodiesel- bzw. FAME-Anteil im Dieselkraftstoff
C82: Zusammenstellung der Anlagenkomponenten nach ÖNorm EN-858-2 | F82: FAME-Anteil
F83: cFame
F84: %(VIV)
F85: cFame ≤ 2 | H85: 2 < cFame ≤ 5 | K85: 5 < cFame ≤ 10 | N85: cFame > 10
C86: S-II-P | F86: 1 | H86: 1.25 | I86: fd | J86: = | K86: 1.5 | N86: 1.75
C87: S-I-P* | F87: 1 | H87: 1 | I87: fd | J87: = | K87: 1.25 | N87: 1.5
C88: S-II-I-P | F88: 1 | H88: 1 | I88: fd | J88: = | K88: 1 | M88: 2 | N88: 1.25
C90: * | D90: Klasse I Abscheider mit ausschließlicher Schwerkraftabscheidung
C91: für die weitere Berechnung werden die Dichtefaktoren aus obigen markierten Feldern herangezogen
B93: 2.2) | C93: Bestimmung des Schlammfangvolumens
C95: Vsf | D95: = | E95: ( | F95: Qr | G95: + | H95: fx | I95: . | J95: Qs | K95: ) | L95: . | M95: fsf
D97: Vsf | E97: ..... | F97: erforderliches Schlammfangvolumen
D99: fsf | E99: ..... | F99: Schlammfangfaktor in Abhängigkeit vom Schlammanfall
D101: fsf | E101: = | F101: 100 | G101: ...... | H101: a) Prozessabwasser mit geringen Schlammmengen
H102: b) Regenauffangflächen (Straßen, Tankstellen usw.)
H103: c) für max. NS 9
D104: fsf | E104: = | F104: 200 | G104: ...... | H104: a) Tankstellen, Pkw-Wäsche von Hand, Teilewäsche
H105: b) Omnibus-Waschstände
H106: c) Abwasser aus Reparaturwerkstätten, Fahrzeugabstellflächen
H107: d) Kraftwerke, Maschinenbaubetriebe
D108: fsf | E108: = | F108: 300 | G108: ...... | H108: a) Waschplätze für Baustellenfahrzeuge, Baumaschinen
H109: und landwirtschaftliche Maschinen
H110: b) Lkw-Waschstände
H111: c) automatische Fahrzeugwaschanlagen,
H112: z.B.Portalwaschanlagen, Waschstrassen
D113: fsf | E113: = | F113: 400 | G113: ...... | H113: Bei Einsatz von Gemischen aus Biodiesel/FAME und Dieselkraftstoff,
H114: jedoch mind. 2,5m³
C116: fsf | D116: = | E116: =Eingabetabelle!L58 -> 0 | F116: ...... | G116: gewählt laut obiger Aufstellung
C118: Vsf | D118: = | E118: ( | F118: =M22 -> 0 | H118: + | I118: =E30 -> 0 | J118: . | K118: =M62 -> 0 | L118: ) | M118: . | N118: =E116 -> 0
C120: Vsf | D120: = | E120: =(F118+I118*K118)*N118 -> 0 | G120: l | H120: = | I120: =E120/1000 -> 0 | K120: m³
C122: jedoch mindestens | G122: =Eingabetabelle!O58 -> 2500 | I122: l | J122: = | K122: =G122/1000 -> 2.5 | L122: m³ | M122: laut Tabelle 5 EN 858-2 bzw.
H123: Mindestwert bei Verwendung von Gemischen aus FAME und Dieselkraftstoff
B124: Projekt: | E124: =E1
Y126: Type | AC126: NS | AE126: SF
Y127: SMA-2/4-EN | AC127: 4 | AD127: 0 | AE127: =AD127*1000 -> 0
B128: 2.3) | C128: Erforderliche Mineralölabscheideanlage nach EN 858 | Y128: SMA-2/4-0,6-EN | AC128: 4 | AD128: 0.6 | AE128: =AD128*1000 -> 600 | AF128: =AC128*1000000 -> 4000000 | AG128: =AE128+AF128 -> 4000600 | AH128: =AG128-$R$149 -> 3998100 | AI128: =IF(AH128>-1,AH128,15000) -> 3998100 | AJ128: =IF(AI128=$AI$274,1,0) -> 1 | AK128: =IF(AJ128=1,AD128,0) -> 0.6
Y129: SMA-2/4-0,9-EN | AC129: 4 | AD129: 0.9 | AE129: =AD129*1000 -> 900 | AF129: =AC129*1000000 -> 4000000 | AG129: =AE129+AF129 -> 4000900 | AH129: =AG129-$R$149 -> 3998400 | AI129: =IF(AH129>-1,AH129,15000) -> 3998400 | AJ129: =IF(AI129=$AI$274,1,0) -> 0 | AK129: =IF(AJ129=1,AD129,0) -> 0
C130: Mineralölabscheider Zusammenstellung S-II-I-P | Y130: SMA-2/4-1,4-EN | AC130: 4 | AD130: 1.4 | AE130: =AD130*1000 -> 1400 | AF130: =AC130*1000000 -> 4000000 | AG130: =AE130+AF130 -> 4001400 | AH130: =AG130-$R$149 -> 3998900 | AI130: =IF(AH130>-1,AH130,15000) -> 3998900 | AJ130: =IF(AI130=$AI$274,1,0) -> 0 | AK130: =IF(AJ130=1,AD130,0) -> 0
C131: mit Platten-Koaleszenz-Einsätzen | Y131: SMA-2/4-1,8-EN | AC131: 4 | AD131: 1.8 | AE131: =AD131*1000 -> 1800 | AF131: =AC131*1000000 -> 4000000 | AG131: =AE131+AF131 -> 4001800 | AH131: =AG131-$R$149 -> 3999300 | AI131: =IF(AH131>-1,AH131,15000) -> 3999300 | AJ131: =IF(AI131=$AI$274,1,0) -> 0 | AK131: =IF(AJ131=1,AD131,0) -> 0
Y132: SMA-2/4-2,5-EN | AC132: 4 | AD132: 2.5 | AE132: =AD132*1000 -> 2500 | AF132: =AC132*1000000 -> 4000000 | AG132: =AE132+AF132 -> 4002500 | AH132: =AG132-$R$149 -> 4000000 | AI132: =IF(AH132>-1,AH132,15000) -> 4000000 | AJ132: =IF(AI132=$AI$274,1,0) -> 0 | AK132: =IF(AJ132=1,AD132,0) -> 0
Y133: SMA-2/4-2,6-EN | AC133: 4 | AD133: 2.6 | AE133: =AD133*1000 -> 2600 | AF133: =AC133*1000000 -> 4000000 | AG133: =AE133+AF133 -> 4002600 | AH133: =AG133-$R$149 -> 4000100 | AI133: =IF(AH133>-1,AH133,15000) -> 4000100 | AJ133: =IF(AI133=$AI$274,1,0) -> 0 | AK133: =IF(AJ133=1,AD133,0) -> 0
C134: NS | D134: = | E134: ( | F134: Qr | G134: + | H134: fx | I134: . | J134: Qs | K134: ) | L134: . | M134: fd | N134: . | O134: ff | Y134: SMA-2/4-3,2-EN | AC134: 4 | AD134: 3.2 | AE134: =AD134*1000 -> 3200 | AF134: =AC134*1000000 -> 4000000 | AG134: =AE134+AF134 -> 4003200 | AH134: =AG134-$R$149 -> 4000700 | AI134: =IF(AH134>-1,AH134,15000) -> 4000700 | AJ134: =IF(AI134=$AI$274,1,0) -> 0 | AK134: =IF(AJ134=1,AD134,0) -> 0
Y135: SMA-2/4-5,0-EN | AC135: 4 | AD135: 5 | AE135: =AD135*1000 -> 5000 | AF135: =AC135*1000000 -> 4000000 | AG135: =AE135+AF135 -> 4005000 | AH135: =AG135-$R$149 -> 4002500 | AI135: =IF(AH135>-1,AH135,15000) -> 4002500 | AJ135: =IF(AI135=$AI$274,1,0) -> 0 | AK135: =IF(AJ135=1,AD135,0) -> 0
C136: NS | D136: = | E136: ( | F136: =Bemessung!M22 -> 0 | G136: + | H136: =Bemessung!E30 -> 0 | I136: . | J136: =Bemessung!M62 -> 0 | K136: ) | L136: . | M136: =IF(Bemessung!E66<0.85,1,1) -> 1 | N136: . | O136: =E78 -> 1 | Y136: SMA-2/4-5,1-EN | AC136: 4 | AD136: 5.1 | AE136: =AD136*1000 -> 5100 | AF136: =AC136*1000000 -> 4000000 | AG136: =AE136+AF136 -> 4005100 | AH136: =AG136-$R$149 -> 4002600 | AI136: =IF(AH136>-1,AH136,15000) -> 4002600 | AJ136: =IF(AI136=$AI$274,1,0) -> 0 | AK136: =IF(AJ136=1,AD136,0) -> 0
Q137: 2/4 | R137: 6/8 | S137: 10/12 | Y137: SMA-2/4-7,4-EN | AC137: 4 | AD137: 7.4 | AE137: =AD137*1000 -> 7400 | AF137: =AC137*1000000 -> 4000000 | AG137: =AE137+AF137 -> 4007400 | AH137: =AG137-$R$149 -> 4004900 | AI137: =IF(AH137>-1,AH137,15000) -> 4004900 | AJ137: =IF(AI137=$AI$274,1,0) -> 0 | AK137: =IF(AJ137=1,AD137,0) -> 0
C138: NS | D138: = | E138: =(F136+H136*J136)*M136*O136 -> 0 | F138: l/s | Q138: =IF(E138>0.01,4,0) -> 0 | R138: =IF(E138>4.01,8,0) -> 0 | S138: =IF(E138>8.01,12,0) -> 0 | Y138: SMA-2/4-9,8-EN | AC138: 4 | AD138: 9.8 | AE138: =AD138*1000 -> 9800 | AF138: =AC138*1000000 -> 4000000 | AG138: =AE138+AF138 -> 4009800 | AH138: =AG138-$R$149 -> 4007300 | AI138: =IF(AH138>-1,AH138,15000) -> 4007300 | AJ138: =IF(AI138=$AI$274,1,0) -> 0 | AK138: =IF(AJ138=1,AD138,0) -> 0
Q139: =IF(E138>4.01,-4,0) -> 0 | R139: =IF(E138>8.01,-8,0) -> 0 | S139: =IF(E138>12.01,-12,0) -> 0 | Y139: SMA-6/8-EN | AC139: 8 | AD139: 0 | AE139: =AD139*1000 -> 0 | AF139: =AC139*1000000 -> 8000000 | AG139: =AE139+AF139 -> 8000000 | AH139: =AG139-$R$149 -> 7997500 | AI139: =IF(AH139>-1,AH139,15000) -> 7997500 | AJ139: =IF(AI139=$AI$274,1,0) -> 0 | AK139: =IF(AJ139=1,AD139,0) -> 0
...

Sheet erford. Mineralölabscheider
A1: Projekt: | D1: =IF(Eingabetabelle!D1="","",Eingabetabelle!D1)
A6: 3) | B6: Erforderliche Mineralölabscheideanlage nach EN 858-2
B8: Für die in der Eingabetabelle dargestellte Situation sind folgende Mineralölabscheidertype entsprechend EN 858 einsetzbar:
A11: 3.1) | B11: Mineralölabscheider Zusammenstellung S-II-I-P
B12: mit Filter-oder Platten-Einsätzen
B14: Nenngröße | G14: NS | H14: = | I14: =Bemessung!E138 -> 0
B16: Schlammfangvolumen | G16: Vsf | H16: = | I16: =Bemessung!O145/1000 -> 0 | J16: m³ | K16: mind. jedoch | N16: =Bemessung!O147/1000 -> 2.5 | O16: m³
B18: Schwimmer tariert auf Dichte | G18: γ | H18: = | I18: =Bemessung!E66 -> 0 | J18: kg/dm³
A21: 3.2) | B21: Mineralölabscheider Zusammenstellung S-II-P
B22: mit Filter-oder Platten-Einsätzen
Q23: =Bemessung!E66 -> 0 | R23: =IF(Q23>0.85,1.5,1) -> 1 | S23: =IF(Q23>0.9,2,0) -> 0 | U23: =MAX(R23:S23) -> 1
B24: Nenngröße | G24: NS | H24: = | I24: =I14*U23 -> 0 | Q24: =Eingabetabelle!H29 -> 0 | R24: =IF(Q24>2,1.25,1) -> 1 | S24: =IF(Q24>5,1.5,0) -> 0 | T24: =IF(Q24>10,1.75,0) -> 0 | U24: =MAX(R24:T24) -> 1
B25: Nenngröße | G25: NS | H25: = | I25: =I24*U24 -> 0 | J25: *
B26: *Bei Einsatz von Gemischen aus Biodiesel/FAME und Dieselkraftstoff
B28: Schlammfangvolumen | G28: Vsf | H28: = | I28: =I16 -> 0 | J28: m³ | K28: mind. jedoch | N28: =N16 -> 2.5 | O28: m³
B30: Schwimmer tariert auf Dichte | G30: γ | H30: = | I30: =I18 -> 0 | J30: kg/dm³
A33: 3.3) | B33: Mineralölabscheider Zusammenstellung S-I-P
B34: ausschließlich Schwerkraftabscheidung ohne Filter-oder Platten-Einsätzen
Q35: =Bemessung!E66 -> 0 | R35: =IF(Q35>0.85,2,1) -> 1 | S35: =IF(Q35>0.9,3,0) -> 0 | U35: =MAX(R35:S35) -> 1
B36: Nenngröße | G36: NS | H36: = | I36: =I14*U35 -> 0 | Q36: =Eingabetabelle!H29 -> 0 | R36: =IF(Q36>2,1,1) -> 1 | S36: =IF(Q36>5,1.25,0) -> 0 | T36: =IF(Q36>10,1.5,0) -> 0 | U36: =MAX(R36:T36) -> 1
B37: Nenngröße | G37: NS | H37: = | I37: =I36*U36 -> 0 | J37: *
B38: *Bei Einsatz von Gemischen aus Biodiesel/FAME und Dieselkraftstoff
B40: Schlammfangvolumen | G40: Vsf | H40: = | I40: =I16 -> 0 | J40: m³ | K40: mind. jedoch | N40: =N16 -> 2.5 | O40: m³
B42: Schwimmer tariert auf Dichte | G42: γ | H42: = | I42: =I18 -> 0 | J42: kg/dm³
