Workbook

Sheet Eingabetabelle
B1: Projekt: | Q1: Anmerkung: Das Berechnungsprogramm wird von der SW-Umwelttechnik kostenlos zur Verfügung gestellt. Es wurde unter Beachtung der aktuellen gültigen Normen und von Erfahrungswerten mit größter Sorgfalt erstellt. Dennoch übernimmt die SW-Umwelttechnik keine Haftung dafür, dass das Berechnungsprogramm fehlerfrei ist oder es den Anforderungen des Benutzers genügt.
B4: 1) | C4: Definition der Situation
B6: 1.1) | C6: Oberflächenentwässerung von mineralölverschmutztem Regenwasser
C8: Projizierte Freifläche A1 | I8: m² | K8: =IF(H8>1,100,0) -> 0 | L8: =IF(H8*H19/10000<10,K8,200) -> 0 | Q8: Projizierte Freifläche A1 Hier wird die Summe aller projizierten Freiflächen in [m²] eingegeben, die über den Mineralölabscheider geleitet werden. Die zu erwartende Leichtflüssigkeitsmenge ist als gering zu bezeichnen.
D9: Regenauffangflächen (Strassen, Tankstellen usw.), auf denen nur geringe Mengen an Schmutz durch Straßenverkehr anfällt
C12: Projizierte Freifläche A2 | I12: m² | L12: =IF(H12>1,200,0) -> 0 | Q12: Projizierte Freifläche A2 Hier wird die Summe aller projizierten Freiflächen in [m²] eingegeben, die über den Mineralölabscheider geleitet werden. Die zu erwartende Leichtflüssigkeitsmenge ist als gering zu bezeichnen.
D13: Regenauffangflächen (Fahrzeugabstellflächen)
Q15: Überdachte, seitlich offene Freifläche A3 Hier wird die Summe der Schlagregenflächen in [m²] von überdachten Flächen eingegeben. Sie errechnet sich: A3 = Σ längste Schlagregenseite x Raumhöhe
C16: Überdachte, seitlich offene Flächen A3 | I16: m² | L16: =IF(H16>1,100,0) -> 0
D17: Fläche des Schlagregens (Parkhaus)
C19: Regenspende i | I19: l/s.ha | L19: =IF(H19>1,100,0) -> 0 | Q19: Regenspende i Es ist die örtliche Regenspende eines mind. jährlichen Regenereignisses in [l/s.ha] eingegeben. 150l/s.ha sollten jedoch nicht unterschritten werden.
D20: Die Regenspende i ist von den örtlichen Regendaten abhängig und ist entsprechend der behördlichen Auflagen anzusetzen.
C22: Dichte der zu erwartenden Leichtflüssigkeit | I22: kg/dm³ | Q22: Dichte der zu erwartenden Leichtflüssigkeit Alle auftretenden Leichtflüssigkeiten sind festzulegen. Mittels der Dichtetabelle wird die Dichte jeder Leichtflüssigkeit bestimmt. Der höchste Dichtewert ist in der Eingabetabelle einzusetzen.
D23: (siehe Dichte-Tabelle) | F23: Dichte γ = | G23: bis 0,85 kg/dm³
F24: Dichte γ = | G24: bis 0,88 kg/dm³
F25: Dichte γ = | G25: bis 0,90 kg/dm³
F26: Dichte γ = | G26: bis 0,95 kg/dm³
Q28: Anteil an Biodiesel (Fettsäuremethylester/FAME) Regelung durch Europäischen Biokraftstoffrichtlinie 2003/30/EG. Biodiesel (FAME) wird zur Zeit in Österreich entweder als B7 (7 Vol.% Biodiesel-Anteil) dem Dieselkraftstoff beigemischt oder als Reinkraftstoff B100 (100 Vol.% Biodiesel bzw. FAME) in Verkehr gebracht
C29: Biodiesel- bzw. FAME-Anteil im Dieselkraftstoff cFAME | I29: Vol.% | L29: =IF(H29>0.9,400,0) -> 0 | N29: 2500 | O29: =IF(H29>0.9,2500,N29) -> 2500
B31: 1.2) | C31: Objektsentwässerung von mineralölverschmutztem Betriebsabwasser
D32: gewerbliches Abwasser aus industriellen Prozessen, Fahrzeugwaschanlagen, Werkstätten, HD-Reiniger
C34: Dichte der zu erwartenden Leichtflüssigkeit | I34: kg/dm³
D35: (siehe Dichte-Tabelle) | F35: Dichte γ = | G35: bis 0,85 kg/dm³ | Q35: Anfallstelle - Auslaufventile Hier werden alle Wasseranschlüsse, die gleichzeitig verwendet werden können, eingetragen. Wird ein Anschluss ausschließlich für z.b.ein HD-Gerät oder Autowaschanlage verwendet, so ist dieser nicht den Auslaufventilen zuzuordnen, sondern ist eigens zu betrachten. Liegt der Versorgungsdruck über 4 bar, so ist dieser ebenso einzutragen.
F36: Dichte γ = | G36: bis 0,90 kg/dm³
F37: Dichte γ = | G37: bis 0,95 kg/dm³
C40: Anfallstellen | L40: =IF(H68>0.01,100,0) -> 0 | Q40: Anfallstelle - Hochdruckreinigungsgeräte Die Anzahl der HD-Geräte, die gleichzeitig verwendet werden können, ist hier einzutragen.
D41: Auslaufventile | F41: DN 15 / 1/2" | I41: Stk. | K41: =IF(H41>0.9,200,0) -> 0 | L41: =IF(H56>0.9,300,K41) -> 0 | N41: 600 | O41: =IF(H41>0.9,600,0) -> 0
F43: DN 20 / 3/4" | I43: Stk. | K43: =IF(H43>0.9,200,0) -> 0 | L43: =IF(H56>0.9,300,K43) -> 0 | N43: 600 | O43: =IF(H43>0.9,600,0) -> 0
F45: DN 25 / 1" | I45: Stk. | K45: =IF(H45>0.9,200,0) -> 0 | L45: =IF(H56>0.9,300,K45) -> 0 | N45: 600 | O45: =IF(H45>0.9,600,0) -> 0 | Q45: Waschplatz für Lkw, Bau-u. landwirtschaftl. Maschinen Werden auf dem Waschplatz Lkw's, Bau-u. landwirtschaftliche Maschinen gereinigt, so ist in das Feld eine 1 einzutragen.
F47: Versorgungsdruck | I47: bar
Q49: Anfallstelle - Autowaschanlage Die Anzahl der Autowaschanlagen, die gleichzeitig verwendet werden können, ist hier einzutragen.
D50: Autowaschanlagen | I50: Stk. | L50: =IF(H50>0.9,300,0) -> 0 | N50: 5000 | O50: =IF(H50>0.9,5000,0) -> 0
Q52: gewählter Erschwernisfaktor fx Beachten Sie bei der NS-Berechnung des Mineralölabscheiders laut EN858-2, dass dieser bei der EN-Prüfung nur mit Heizöl Extraleicht geprüft wird und in der EN858-2 der Erschwernisfaktor mit 2 festgelegt wurde. Bei offensichtlichem starken Schmutzanfall sollte der Erschwernisfaktor jedoch laut Erschwernisfaktortabelle (empfohlenen Erschwernisfaktor) angesetzt werden, um die geforderten Grenzwerte hinsichtlich des Restölgehaltes im Abwasser einhalten zu können. Sie haben die Möglichkeit einen Schmutzfaktor fx >2 in der Eingabetabelle festzulegen. Wird kein Schmutzfaktor eingegeben, so wird mit dem Schmutzfaktor laut EN858-2 gerechnet.
D53: Hochdruckreinigungsgeräte | I53: Stk. | K53: =IF(H53>0.9,200,0) -> 0 | L53: =IF(H56>0.9,300,K53) -> 0 | N53: 600 | O53: =IF(H53>0.9,600,0) -> 0
D54: Waschplatz für Lkw, Bau-u. landwirtschaftl. Maschinen | I54: ja=1
L55: =H61 -> 0
D56: Waschplatz für Lkw, Bau-u. landwirtschaftl. Maschinen | I56: ja=1
C58: gewählter Erschwernisfaktor fx (siehe Erschwernisfaktortabelle) | L58: =MAX(L8:L55) -> 0 | O58: =MAX(O7:O54) -> 2500
C61: gewählter Schlammfangvolumen fst | I61: l / NS | Q61: gewähltes Schlammfangvolumen fst Hier kann das Schlammfangvolumen frei gewählt werden. Bei starken Schlammanfall sollte das Volumen von 400 bis 600 l/NS gewählt werden. Das mindest erforderliche Volumen laut EN 858-2 bleibt jedoch automatisch als Rechnungenwert erhalten. Bei Einsatz von Biodiesel/FAME sollte das Volumen mind. 400l/NS betragen, jedoch mindesten 2,5m³.
B64: 1.3) | C64: Schutz von auslaufenden Flüssigkeiten im Objektsbereich
...

Sheet Erschwernisfaktortabelle
B1: Anwendungsfall | C1: Bemerkung | D1: Erschwernisfaktor fx | F1: Schlammfangvolumen
C2: Allgemeine Anforderungen: - für Mineralölabscheider der Klasse 1 - Reinigungsmittel entsprechend ÖNORMen B 5104 B 5105 B 5106 | D2: mind. lt. EN 858-2 | E2: Empfohlenc) | F2: X * NS / fd mind. lt. EN 858-2 | G2: X * NS / fd empfohlen
A4: 1 | B4: Regenwasser von Tankstellen (Betankungs- und Manipulationsbereich | C4: kein Anfall von Detergentien | D4: - a) | E4: - | F4: 200 (100 bis NS 10) | G4: 200
A6: 1.1 | B6: Gemische aus FAME und Dieselkraftstoffen | D6: - a) | E6: _ | F6: - a) | G6: 400 (jedoch mind. 2,5m³)
A8: 2 | B8: Regenwasser von Öllagern und Ölumschlagplätzen | D8: - a) | E8: - | F8: 200 (100 bis NS 10) | G8: 200
A10: 3 | B10: Regenwasser von Parkplätzen | D10: - a) | E10: - | F10: 200 (100 bis NS 10) | G10: 200
A12: 4 | B12: Regenwasser von Straßen usw. in besonderen Fällen | D12: - a) | E12: - | F12: 200 (100 bis NS 10) | G12: 200
A14: 5 | B14: Reinigung (Auslaufen und Leckage) von Fußböden von Werkstätten, Prüfinstituten, Fabriken usw. | C14: Arbeitsräume mit Bodenablauf
A15: 5.1 | B15: Bei Gebrauch von Reinigungsmitteln | D15: 2 | E15: 4 | F15: 200 | G15: 300
A16: 5.2 | B16: Ohne Gebrauch von Reinigungsmitteln | D16: 2 | E16: 2 | F16: 200 | G16: 200
A18: 6 | B18: Autowäsche
A19: 6.1 | B19: Von Hand | C19: Nur Reinigung von Fahrzeugflächen, | D19: 2 | E19: 2 | F19: 200 | G19: 300
A20: 6.2.1 | B20: In Waschanlagen "Portalwaschanlagen" | C20: Nur Reinigung von Fahrzeugoberflächen, einschließlich Unterbodenwäsche (Niederdruck), | D20: 2 | E20: 4 | F20: 300 (jedoch mind. 5 m³) | G20: 600
A21: 6.2.2 | B21: In Waschanlagen "Waschstraßen" | C21: Nur Reinigung von Fahrzeugoberflächen, einschließlich Unterbodenwäsche (Niederdruck), | D21: 2 | E21: 6b) | F21: 300 (jedoch mind. 5 m³) | G21: 600
A22: 6.3 | B22: Mit Hochdruckgeräten
A23: 6.3.1 | B23: Reinigung von nicht ölverschmutzten Fahrzeugoberflächen | D23: 2 | E23: 4 | F23: 200 bzw. 300 | G23: 400
A24: 6.3.2 | B24: Reinigung von ölverschmutzten Fahrzeugoberflächen | D24: 2 | E24: 4 | F24: 200 bzw. 300 | G24: 400
A25: 6.4 | B25: Unterbodenwäsche | D25: 2 | E25: 6 | F25: 200 bzw. 300 | G25: 400
A26: 6.5 | B26: Motorwäsche | D26: 2 | E26: 8 | F26: 200 bzw. 300 | G26: 400
A27: 6.6 | B27: Mit Hochdruckreinigungsgerät in Selbstbedienung | C27: SB - Freiwaschplätze | D27: 2 | E27: 6 | F27: 200 bzw. 300 | G27: 400
A28: 6.7 | B28: Waschplatz f. Baumaschinen und landwirtschaftliche Maschinen | D28: 2 | E28: 6 | F28: 300 | G28: 600
A30: 7 | B30: Reinigen (außer Autowäsche) | C30: Reinigen von Motoren und Teilen
A31: 7.1 | B31: Mit Hochdruckgerät | D31: 2 | E31: 8 | F31: 200 | G31: 400
A32: 7.2 | B32: Mit Rotationsreiniger | D32: 2 | E32: 10 | F32: 200 | G32: 400
A34: 8 | B34: Entfernen größerer Mengen von Paraffin, Wachs oder ähnlichem von neuen Fahrzeugen, einschließlich Rostschutzbehandlung | C34: In den meisten Fällen ist eine Emulsionstrennanlage oder weitgehende Abwasserbehandlung erforderlich | D34: _ | E34: _ | F34: _ | G34: _
A36: 9 | B36: Schrottplätze (Havarieplätze) | D36: 2 | E36: 4 | F36: 200 | G36: 400
A38: 10 | B38: Beschickung des Mineralölabscheiders mittels Verdrängerpumpe | C38: nur in Ausnahmefällen | D38: - a) | E38: gewählter fx * 2 | G38: 400
B39: a) in der Bemessung ist laut EN 858 kein Erschwernisfaktor vorgesehen | C39: c) die empfohlenen Erschwernisfaktoren sollten unter der Berücksichtigung von Emulsionsbildung bei angeführten Prozessen zur erforderlichen Reinigungsleistung (Klasse I ) gewählt werden
B40: b) hier wird der erhöhte Wasseranfall gegenüber einer Portalwaschanlage berücksichtigt

Sheet Dichtetabelle
A1: Dichtetabelle für Leichtflüssigkeiten (Auszug aus EN 858-2) häufige Leichtflüssigkeiten sind markiert
A2: Leichtflüssigkeit | B2: Dichte bei 15 °C bis 20 °C (kg/dm³) | C2: Abscheidbarkeit | D2: Bemerkungen
D3: Maximale Löslichkeit in Wasser unter bestimmten Bedingungen | E3: Andere
A4: Essigsäureamylacetat | B4: 0.876 | C4: Ja | D4: 2,5 g/l | E4: a
A5: Essigsäureethylester | B5: 0.9 | C5: Begrenzt | D5: 86,0 g/l | E5: Nach gewisser Zeit Zersetzung in Essigsäure und Wasser
A6: Essigsäuremethylester | B6: 0,93 bis 0,934 | C6: Begrenzt | D6: 292 g/l | E6: a Insbesondere in geschossenen Behältern
A7: Essigsäure-n-butylester | B7: 0.876 | C7: Begrenzt | D7: 7 g/l | E7: Nach gewisser Zeit Zersetzung in Essigsäure und Ethylalkohol
A8: Aceton | B8: 0.791 | C8: Nein | D8: Unbegrenzt | E8: -
A9: Bernsteinöl | B9: 0.8 | C9: Ja | D9: - | E9: -
A10: Amylalkohol | B10: 0.815 | C10: Begrenzt | D10: 27 g/l | E10: Schädliche Gemische mit Wasser
A11: Benzol | B11: 0.87 | C11: Ja | D11: 1,8 g/l | E11: a
A12: Butylalkohol | B12: 0.81 | C12: Begrenzt | D12: 90 g/l | E12: a
A13: Kohlenteeröl | B13: 0,86 bis 0,89 | C13: Ja | D13: 0,2 g/l | E13: -
A14: Kresolöl | B14: 1.03 | C14: Nein | D14: 20 g/l | E14: -
A15: Cyclohexanol | B15: 0.968 | C15: Nein | D15: 56,7 g/l | E15: -
A16: Cyclohexan | B16: 0,778 bis 0,779 | C16: Ja | D16: Fast unlöslich | E16: a
A17: Dekaline | B17: 0,870 bis 0,896 | C17: Ja | D17: Fast unlöslich | E17: -
A18: Dieselkraftstoff, Dieselöl | B18: 0.85 | C18: Ja | D18: Fast unlöslich | E18: -
A19: Dietylether | B19: 0.714 | C19: Begrenzt | D19: 75 g/l | E19: Ausgasung aus Ether-Wasser-Gemischen
A20: Dioxan | B20: 1.036 | C20: Nein | D20: Unbegrenzt | E20: a Bei hohen Konzentrationen
A21: Ethylalkohol | B21: 0.789 | C21: Nein | D21: Unbegrenzt | E21: a Bei hohen Konzentrationen
A22: Ethylbutyrat (n-Buttersäure-ethylester) | B22: 0.879 | C22: Begrenzt | D22: 6,2 g/l | E22: a
A23: Ethylmethylketon | B23: 0.806 | C23: Nein | D23: Gut löslich | E23: -
A24: Ameisensäureethylester | B24: 0,919 bis 0,921 | C24: Begrenzt | D24: 110 g/l | E24: a
A25: Ameisensäuremethylester | B25: 0,969 bis 0,971 | C25: Begrenzt | D25: 300 g/l | E25: a
A26: Heizöl, extraleicht | B26: 0.86 | C26: Ja | D26: Fast unlöslich | E26: -
A27: Heizöl, leicht | B27: 0.87 | C27: Ja | D27: - | E27: -
A28: Heizöl, mittel | B28: 0.92 | C28: Ja | D28: - | E28: -
A29: Heizöl, schwer | B29: 0,94 bis 0,99 | C29: Begrenzt bei Dichten bis etwa 0,96 g/cm³ | D29: Fast unlöslich | E29: -
A30: Schwerbenzin | B30: 0,70 bis 0,75 | C30: Ja | D30: Fast unlöslich | E30: -
A31: Heptan | B31: 0.684 | C31: Ja | D31: Fast unlöslich | E31: a
A32: Hexan | B32: 0.659 | C32: Ja | D32: Fast unlöslich | E32: a
A33: iso-Amylalkohol | B33: 0.813 | C33: Begrenzt | D33: 30 g/l | E33: -
A34: iso-Butylalkohol | B34: 0.806 | C34: Begrenzt | D34: 95 g/l | E34: a An warmen Tagen
A35: iso-Propylalkohol | B35: 0.785 | C35: Nein | D35: Unbegrenzt | E35: a
A36: Kerosin (Flugbenzin) | B36: 0.8 | C36: Ja | D36: - | E36: a Wenn Sonnenlicht ausgesetzt
A37: Leichtöl = Heizöl, leicht
A38: Leichtbenzin = Benzin, Gemisch
A39: Holzteeröl = Kohlenteeröl
A40: Schmieröl | B40: 0,89 bis 0,90 | C40: Ja | D40: Fast unlöslich | E40: -
...

Sheet Bemessung
B1: Projekt: | E1: =IF(Eingabetabelle!D1="","",Eingabetabelle!D1)
B3: 2) | C3: Bemessung einer Mineralölabscheideanlage nach EN 858-2
B5: 2.1) | C5: Bestimmung der Nenngröße NS
C7: NS | D7: = | E7: ( | F7: Qr | G7: + | H7: fx | I7: . | J7: Qs | K7: ) | L7: . | M7: fd | N7: . | O7: ff
D9: NS | E9: ..... | F9: Nenngröße des Abscheiders
D10: Qr | E10: ..... | F10: maximale Regenabfluss in l/s
D11: fx | E11: ..... | F11: Erschwernisfaktor in Abhängigkeit von der Art des Abflusses
D12: Qs | E12: ..... | F12: gesamter Schmutzwasserabfluss in l/s
D13: fd | E13: ..... | F13: Dichtefaktor für die maßgebende Flüssigkeit
D14: ff | E14: ..... | F14: Fame-Faktor
C16: Qr | D16: = | E16: ( | F16: ψ | G16: . | H16: i | I16: . | J16: A | K16: )
D18: ψ | E18: ..... | F18: Abflussbeiwert | J18: gewählt für Hartbelag = | N18: 1
D19: i | E19: ..... | F19: Regenspende in l/s*ha
D20: A | E20: ..... | F20: Niederschlagsfläche in ha
C22: Qr | D22: = | E22: ( | F22: =N18 -> 1 | G22: . | H22: =Eingabetabelle!H19 -> 0 | I22: . | J22: =(Eingabetabelle!H8+Eingabetabelle!H12+Eingabetabelle!H16)/10000 -> 0 | K22: ) | L22: = | M22: =F22*H22*J22 -> 0 | N22: l/s
D24: fx | E24: = | F24: =IF(Eingabetabelle!H68>0,1,0) -> 0 | G24: ..... | H24: Schutz von auslaufenden Flüssigkeiten im Objektsbereich
D26: fx | E26: = | F26: =IF(E62+G62+I62>0,2,0) -> 0 | G26: ..... | H26: gewerbliches Abwasser aus industriellen Prozessen, Fahrzeugwaschanlagen, Werkstätten, HD-Reiniger
D28: fx | E28: = | F28: =Eingabetabelle!H58 -> 0 | G28: ..... | H28: laut Eingabetabelle
C30: fx | D30: = | E30: =MAX(F24,F26,F28) -> 0 | F30: ..... | G30: gewählt
C32: Qs | D32: = | E32: Qs1(xbar) | G32: + | H32: Qs2 | I32: + | J32: Qs3 | K32: + | L32: Qs4
D34: Qs1(xbar) | F34: = | G34: Schmutzwasserabfluss von Auslaufventilen
D36: laut Tabelle 4 entsprechend EN 858-2 gilt:
D37: 1. Ventil | E37: 2. Ventil | F37: 3. Ventil | G37: 4. Ventil | H37: 5. Ventil | I37: 6. Ventil
AA38: =SUM(AA39:AA41) -> 0 | AB38: =SUM(AB39:AB41) -> 0 | AC38: =SUM(AC39:AC41) -> 0 | AD38: =SUM(AD39:AD41) -> 0 | AE38: =SUM(AE39:AE41) -> 0 | AF38: =SUM(AF39:AF41) -> 0
C39: DN 15 | D39: 0.5 | E39: 0.5 | F39: 0.35 | G39: 0.25 | H39: 0.1 | I39: 0.1 | K39: =R39-S39 -> 0 | Q39: =Eingabetabelle!H45+Eingabetabelle!H43+Eingabetabelle!H41 -> 0 | R39: =IF(Q39=1,D39,0)+IF(Q39=2,D39+E39,0)+IF(Q39=3,D39+E39+F39,0)+IF(Q39=4,D39+E39+F39+G39,0)+IF(Q39=5,D39+E39+F39+G39+H39,0)+IF(Q39=6,D39+E39+F39+G39+H39+I39,0)+IF(Q39>6.1,D39+E39+F39+G39+H39*(Q39-4),0) -> 0 | S39: =IF(Q41=1,D39,0)+IF(Q41=2,D39+E39,0)+IF(Q41=3,D39+E39+F39,0)+IF(Q41=4,D39+E39+F39+G39,0)+IF(Q41=5,D39+E39+F39+G39+H39,0)+IF(Q41=6,D39+E39+F39+G39+H39+I39,0)+IF(Q41>6.1,D39+E39+F39+G39+H39*(Q41-4),0) -> 0 | Y39: =Eingabetabelle!H41 -> 0 | Z39: =SUM(Y39:Y41) -> 0 | AA39: =IF(Z39>0.9,5,0) -> 0 | AB39: =IF(Z39>1.9,5,0) -> 0 | AC39: =IF(Z39>2.9,5,0) -> 0 | AD39: =IF(Z39>3.9,5,0) -> 0 | AE39: =IF(Z39>4.9,5,0) -> 0 | AF39: =IF(Z39>5.9,5,0) -> 0
C40: DN 20 | D40: 1 | E40: 1 | F40: 0.7 | G40: 0.5 | H40: 0.2 | I40: 0.2 | K40: =R40-S40 -> 0 | Q40: =Eingabetabelle!H45+Eingabetabelle!H43 -> 0 | R40: =IF(Q40=1,D40,0)+IF(Q40=2,D40+E40,0)+IF(Q40=3,D40+E40+F40,0)+IF(Q40=4,D40+E40+F40+G40,0)+IF(Q40=5,D40+E40+F40+G40+H40,0)+IF(Q40=6,D40+E40+F40+G40+H40+I40,0)+IF(Q40>6.1,D40+E40+F40+G40+H40*(Q40-4),0) -> 0 | S40: =IF(Eingabetabelle!H45=1,D40,0)+IF(Eingabetabelle!H45=2,D40+E40,0)+IF(Eingabetabelle!H45=3,D40+E40+F40,0)+IF(Eingabetabelle!H45=4,D40+E40+F40+G40,0)+IF(Eingabetabelle!H45=5,D40+E40+F40+G40+H40,0)+IF(Eingabetabelle!H45=6,D40+E40+F40+G40+H40+I40,0)+IF(Eingabetabelle!H45>6.1,D40+E40+F40+G40+H40*(Eingabetabelle!H45-4),0) -> 0 | Y40: =Eingabetabelle!H43 -> 0 | Z40: =Y40+Y41 -> 0 | AA40: =IF(Z40>0.9,5,0) -> 0 | AB40: =IF(Z40>1.9,5,0) -> 0 | AC40: =IF(Z40>2.9,5,0) -> 0 | AD40: =IF(Z40>3.9,5,0) -> 0 | AE40: =IF(Z40>4.9,5,0) -> 0 | AF40: =IF(Z40>5.9,5,0) -> 0
C41: DN 25 | D41: 1.7 | E41: 1.7 | F41: 1.2 | G41: 0.85 | H41: 0.3 | I41: 0.3 | K41: =IF(Eingabetabelle!H45=1,D41,0)+IF(Eingabetabelle!H45=2,D41+E41,0)+IF(Eingabetabelle!H45=3,D41+E41+F41,0)+IF(Eingabetabelle!H45=4,D41+E41+F41+G41,0)+IF(Eingabetabelle!H45=5,D41+E41+F41+G41+H41,0)+IF(Eingabetabelle!H45=6,D41+E41+F41+G41+H41+I41,0)+IF(Eingabetabelle!H45>6.1,D41+E41+F41+G41+H41*(Eingabetabelle!H45-4),0) -> 0 | Q41: =Eingabetabelle!H43+Eingabetabelle!H45 -> 0 | Y41: =Eingabetabelle!H45 -> 0 | AA41: =IF(Y41>0.9,5,0) -> 0 | AB41: =IF(Y41>1.9,5,0) -> 0 | AC41: =IF(Y41>2.9,5,0) -> 0 | AD41: =IF(Y41>3.9,5,0) -> 0 | AE41: =IF(Y41>4.9,5,0) -> 0 | AF41: =IF(Y41>5.9,5,0) -> 0
H42: Qs1(4bar) | J42: = | K42: =SUM(K39:K41) -> 0 | L42: bei 4 bar Versorgungsdruck | AA42: =SUM(AA40:AA41) -> 0 | AB42: =SUM(AB40:AB41) -> 0 | AC42: =SUM(AC40:AC41) -> 0 | AD42: =SUM(AD40:AD41) -> 0 | AE42: =SUM(AE40:AE41) -> 0 | AF42: =SUM(AF40:AF41) -> 0
C44: Qs1(xbar) | E44: = | F44: Qs1(4bar) | H44: / | I44: 4bar | J44: / | K44: x bar
C46: Qs1(xbar) | E46: = | F46: =K42 -> 0 | H46: / | I46: 4 | J46: / | K46: =IF(Eingabetabelle!H47>4,Eingabetabelle!H47,4) -> 4 | L46: = | M46: =F46/SQRT(I46/K46) -> 0 | N46: l/s
C48: Qs2 | D48: = | E48: 2 | F48: l/s | G48: . | H48: =Eingabetabelle!H50 -> 0 | I48: = | J48: =E48*H48 -> 0 | K48: l/s
D50: Qs2 | E50: ....... | F50: Schmutzwasserabfluss von Autowaschanlagen
C52: Qs31 | D52: = | E52: =IF(H48>0.9,"1","2") -> 2 | F52: l/s | G52: . | H52: =IF(Eingabetabelle!H53>0.9,1,0) -> 0 | I52: = | J52: =IF(Eingabetabelle!H53>0.9,E52*H52,0) -> 0 | K52: l/s | L52: ..... | M52: 1. HD-Gerät
C53: Qs32 | D53: = | E53: 1 | F53: l/s | G53: . | H53: =IF(Eingabetabelle!H53<1,0,Eingabetabelle!H53-1) -> 0 | I53: = | J53: =E53*H53 -> 0 | K53: l/s | L53: ..... | M53: 2.,3.,4., usw. HD-Gerät
C54: Qs3 | D54: = | J54: =SUM(J52:J53) -> 0 | K54: l/s
D56: Qs3 | E56: ....... | F56: Schmutzwasserabfluss von Hochdruckreinigungsgeräten
C58: Qs4 | D58: = | E58: =Eingabetabelle!H68 -> 0 | F58: l/s
D60: Qs4 | E60: ....... | F60: Schmutzwasserabfluss von auslaufenden Leichtflüssigkeiten
C62: Qs | D62: = | E62: =M46 -> 0 | F62: + | G62: =J48 -> 0 | H62: + | I62: =J54 -> 0 | J62: + | K62: =E58 -> 0 | L62: = | M62: =E62+G62+I62+K62 -> 0 | N62: l/s
B64: Projekt: | E64: =E1
...

Sheet erford. Mineralölabscheider
A1: Projekt: | D1: =IF(Eingabetabelle!D1="","",Eingabetabelle!D1)
A6: 3) | B6: Erforderliche Mineralölabscheideanlage nach EN 858-2
B8: Für die in der Eingabetabelle dargestellte Situation sind folgende Mineralölabscheidertype entsprechend EN 858 einsetzbar:
A11: 3.1) | B11: Mineralölabscheider Zusammenstellung S-II-I-P
B12: mit Filter-oder Platten-Einsätzen
B14: Nenngröße | G14: NS | H14: = | I14: =Bemessung!E138 -> 0
B16: Schlammfangvolumen | G16: Vsf | H16: = | I16: =Bemessung!O145/1000 -> 0 | J16: m³ | K16: mind. jedoch | N16: =Bemessung!O147/1000 -> 2.5 | O16: m³
B18: Schwimmer tariert auf Dichte | G18: γ | H18: = | I18: =Bemessung!E66 -> 0 | J18: kg/dm³
A21: 3.2) | B21: Mineralölabscheider Zusammenstellung S-II-P
B22: mit Filter-oder Platten-Einsätzen
Q23: =Bemessung!E66 -> 0 | R23: =IF(Q23>0.85,1.5,1) -> 1 | S23: =IF(Q23>0.9,2,0) -> 0 | U23: =MAX(R23:S23) -> 1
B24: Nenngröße | G24: NS | H24: = | I24: =I14*U23 -> 0 | Q24: =Eingabetabelle!H29 -> 0 | R24: =IF(Q24>2,1.25,1) -> 1 | S24: =IF(Q24>5,1.5,0) -> 0 | T24: =IF(Q24>10,1.75,0) -> 0 | U24: =MAX(R24:T24) -> 1
B25: Nenngröße | G25: NS | H25: = | I25: =I24*U24 -> 0 | J25: *
B26: *Bei Einsatz von Gemischen aus Biodiesel/FAME und Dieselkraftstoff
B28: Schlammfangvolumen | G28: Vsf | H28: = | I28: =I16 -> 0 | J28: m³ | K28: mind. jedoch | N28: =N16 -> 2.5 | O28: m³
B30: Schwimmer tariert auf Dichte | G30: γ | H30: = | I30: =I18 -> 0 | J30: kg/dm³
A33: 3.3) | B33: Mineralölabscheider Zusammenstellung S-I-P
B34: ausschließlich Schwerkraftabscheidung ohne Filter-oder Platten-Einsätzen
Q35: =Bemessung!E66 -> 0 | R35: =IF(Q35>0.85,2,1) -> 1 | S35: =IF(Q35>0.9,3,0) -> 0 | U35: =MAX(R35:S35) -> 1
B36: Nenngröße | G36: NS | H36: = | I36: =I14*U35 -> 0 | Q36: =Eingabetabelle!H29 -> 0 | R36: =IF(Q36>2,1,1) -> 1 | S36: =IF(Q36>5,1.25,0) -> 0 | T36: =IF(Q36>10,1.5,0) -> 0 | U36: =MAX(R36:T36) -> 1
B37: Nenngröße | G37: NS | H37: = | I37: =I36*U36 -> 0 | J37: *
B38: *Bei Einsatz von Gemischen aus Biodiesel/FAME und Dieselkraftstoff
B40: Schlammfangvolumen | G40: Vsf | H40: = | I40: =I16 -> 0 | J40: m³ | K40: mind. jedoch | N40: =N16 -> 2.5 | O40: m³
B42: Schwimmer tariert auf Dichte | G42: γ | H42: = | I42: =I18 -> 0 | J42: kg/dm³
